BEGIN:VCALENDAR
VERSION:2.0
PRODID:-//Tindell&#039;s Horse and Mule School - ECPv6.15.16.1//NONSGML v1.0//EN
CALSCALE:GREGORIAN
METHOD:PUBLISH
X-ORIGINAL-URL:https://jerrytindell.hammanitechdemos.com
X-WR-CALDESC:Events for Tindell&#039;s Horse and Mule School
REFRESH-INTERVAL;VALUE=DURATION:PT1H
X-Robots-Tag:noindex
X-PUBLISHED-TTL:PT1H
BEGIN:VTIMEZONE
TZID:UTC
BEGIN:STANDARD
TZOFFSETFROM:+0000
TZOFFSETTO:+0000
TZNAME:UTC
DTSTART:20250101T000000
END:STANDARD
END:VTIMEZONE
BEGIN:VEVENT
DTSTART;VALUE=DATE:20260123
DTEND;VALUE=DATE:20260126
DTSTAMP:20260423T085758
CREATED:20260227T102038Z
LAST-MODIFIED:20260227T104206Z
UID:15574-1769126400-1769385599@jerrytindell.hammanitechdemos.com
SUMMARY:Advanced Horsemanship - Corning Ca
DESCRIPTION:January 23\, 24 & 25\, 2026 \nAdvanced Horsemanship \nDeveloping Deeper Understanding\, Communication and Confidence  \nRolling Hills Casino Equestrian Center \n2655 Everett Freeman Way \nCorning\, Ca 96021 \n☐ Deposit $325          ☐ Pay in Full $650 \nPlease register as soon as possible to guarantee your spot in the class.  Registration is limited and on a first come first serve basis.  Riders will need to sign a Release/Hold Harmless waiver before riding and minors must have a parent or guardian present to sign.  Each participant is allowed one horse per class to ride throughout the clinic. \n  \nPayment:  A 50% deposit is required to hold your spot.  All payments are due two weeks prior to class.  Any balances remaining on clinic day will be charged a $50.00 late fee. \n\nMake checks payable and mail to:\n\nTindell’s Horse and Mule School\, Humans Too! LLC \n6868 Coyote Trail \nOak Hills\, CA 92344  \n\nRegistration forms need to be either mailed in with payments or emailed to info@jerrytindell.com.\nElectronic payment options available through our website jerrytindell.com. Transaction fees apply.\nRegistration forms and Hold Harmless wavier are to be completed with electronic payment.\n\nCancellation policy: All payments are non-refundable except in the event the clinic is cancelled. \nFacilities Fees: All fees for stalls\, arena\, cattle and other facilities costs are due at check-in and payable to clinic host. Contact clinic host regarding clinic location\, overnight boarding and camping details: \nDan and Robin Chartier (530) 356-0256 or dr.outfittin53@gmail.com \n*Arena Fee(Indoor) $80 per person/per animal for the weekend *Haul in Fee $25 for the weekend(no haul in fee required with purchase of overnight stall.) *Overnight stalls $40 per night\, includes 1 bale of shavings per night\, any additional shavings $10 per bag **No outside shavings permitted.  RV Hook-ups $35.00 per night **Contact clinic host for more info*** \nAuditor: $30 per day – No reservations required.
URL:https://jerrytindell.hammanitechdemos.com/event/advanced-horsemanship-corning-ca-2/
END:VEVENT
BEGIN:VEVENT
DTSTART;VALUE=DATE:20260126
DTEND;VALUE=DATE:20260127
DTSTAMP:20260423T085758
CREATED:20260227T102038Z
LAST-MODIFIED:20260227T104206Z
UID:15573-1769385600-1769471999@jerrytindell.hammanitechdemos.com
SUMMARY:Confidence Through Obstacles - Building Trust\, Communication\, and a Better Ride
DESCRIPTION:January 26\, 2026 \nRunning I Ranch \n1700 Alexander Hill Lane\, \nDunnigan\, Ca 95937 \n☐ Deposit $150 ☐ Pay in Full $300 \n☐$100 when signed up for Advanced Horsemanship Jan. 23-25 \nPlease register as soon as possible to guarantee your spot in the class.  Registration is limited and on a first come first serve basis.  Riders will need to sign a Release/Hold Harmless waiver before riding and minors must have a parent or guardian present to sign.  Each participant is allowed one horse per class to ride throughout the clinic. \nPayment:  A 50% deposit is required to hold your spot.  All payments are due two weeks prior to class.  Any balances remaining on clinic day will be charged a $50.00 late fee. \n\nMake checks payable and mail to:\n\nTindell’s Horse and Mule School\, Humans Too! LLC \n6868 Coyote Trail \nOak Hills\, CA 92344  \n\nRegistration forms and Hold Harmless Waivers need to be either mailed in with payments or emailed to info@jerrytindell.com.\nElectronic payment options available through our website jerrytindell.com. Transaction fees apply.  Registration forms and Hold Harmless Waivers are to be completed with electronic payment.\n\nCancellation policy: All payments are non-refundable except in the event the clinic is cancelled. \nFacilities Fees: All fees for stalls\, arena\, cattle and other facilities costs are due at check-in and payable to clinic host. Contact clinic host regarding clinic location\, overnight boarding and camping details: \nDan and Robin Chartier (530) 356-0256 or dr.outfittin53@gmail.com \n*Facility Fee(Running I Ranch) $30 per person/per animal  *Stall Fee $20 per night **Contact clinic host for more info** \nAuditor: $30 per day – No reservations required.
URL:https://jerrytindell.hammanitechdemos.com/event/confidence-through-obstacles-building-trust-communication-and-a-better-ride-2/
END:VEVENT
BEGIN:VEVENT
DTSTART;VALUE=DATE:20260529
DTEND;VALUE=DATE:20260601
DTSTAMP:20260423T085758
CREATED:20260227T102038Z
LAST-MODIFIED:20260227T104206Z
UID:15572-1780012800-1780271999@jerrytindell.hammanitechdemos.com
SUMMARY:Advancing Your Horsemanship with Jerry Tindell - Santa Cruz
DESCRIPTION:May 29\, 30 & 31\, 2025\n \nSanta Cruz County Horsemen’s Association\n1251 Graham Hill Rd\nSanta Cruz\, CA \n☐ Deposit $325          ☐ Pay in Full $650 \nPlease register as soon as possible to guarantee your spot in the class.  Registration is limited and on a first come first serve basis.  Riders will need to sign a Release/Hold Harmless waiver before riding and minors must have a parent or guardian present to sign.  Each participant is allowed one horse per class to ride throughout the clinic. \n*Registration (first day only) 8-8:30 am  *Class starts promptly each day at 9 am \nPayment:  A 50% deposit is required to hold your spot.  All payments are due two weeks prior to class.  Any balances remaining on clinic day will be charged a $50.00 late fee. \n\nMake checks payable and mail to:\n\nTindell’s Horse and Mule School\, Humans Too! LLC \n6868 Coyote Trail \nOak Hills\, CA 92344  \n\nRegistration forms and Hold Harmless need to be either mailed in with payments or emailed to info@jerrytindell.com.\n\n Electronic payment options available through our website jerrytindell.com. Transaction fees apply.  Registration forms are to be completed with electronic payment. \nCancellation policy: All payments are non-refundable except in the event clinic is cancelled. \nFacilities Fees: All fees for stalls\, arena\, cattle and other facilities costs are due at check-in and payable to clinic host. Contact clinic host regarding clinic location\, overnight boarding and camping details. Camping and facility fees on following page. \nClinic Hosts: Jen Breese-Kauth\, 510-334-6945\, jen.breese@gmail.com \nAuditor: $30 per day – No reservations required. \n 
URL:https://jerrytindell.hammanitechdemos.com/event/advancing-your-horsemanship-with-jerry-tindell-santa-cruz-2/
END:VEVENT
END:VCALENDAR